BEGIN:VCALENDAR
VERSION:2.0
PRODID:-//Nachhaltiger Einkauf - ECPv5.3.2.1//NONSGML v1.0//EN
CALSCALE:GREGORIAN
METHOD:PUBLISH
X-WR-CALNAME:Nachhaltiger Einkauf
X-ORIGINAL-URL:https://www.nachhaltiger-einkauf.de/wordpress
X-WR-CALDESC:Veranstaltungen für Nachhaltiger Einkauf
BEGIN:VTIMEZONE
TZID:Europe/Berlin
BEGIN:DAYLIGHT
TZOFFSETFROM:+0100
TZOFFSETTO:+0200
TZNAME:CEST
DTSTART:20210328T010000
END:DAYLIGHT
BEGIN:STANDARD
TZOFFSETFROM:+0200
TZOFFSETTO:+0100
TZNAME:CET
DTSTART:20211031T010000
END:STANDARD
END:VTIMEZONE
BEGIN:VEVENT
DTSTART;VALUE=DATE:20210904
DTEND;VALUE=DATE:20210906
DTSTAMP:20260423T055212
CREATED:20210226T161033Z
LAST-MODIFIED:20210226T161033Z
UID:6815-1630713600-1630886399@www.nachhaltiger-einkauf.de
SUMMARY:Messe grünes Geld
DESCRIPTION:
URL:https://www.nachhaltiger-einkauf.de/wordpress/event/messe-gruenes-geld
LOCATION:Halle Münsterland\, Albersloherweg 32\, Münster\, 48155\, Deutschland
CATEGORIES:Messe
END:VEVENT
END:VCALENDAR